BEGIN:VCALENDAR
VERSION:2.0
PRODID:-//ChamberMaster//Event Calendar 2.0//EN
METHOD:PUBLISH
X-PUBLISHED-TTL:P3D
REFRESH-INTERVAL:P3D
CALSCALE:GREGORIAN
BEGIN:VEVENT
DTSTART:20260423T220000Z
DTEND:20260423T233000Z
X-MICROSOFT-CDO-ALLDAYEVENT:FALSE
SUMMARY:Speaker Jon Zimmerman Lecture
DESCRIPTION:Speaker Jon Zimmerman Lecture - "You Can't Say That: American Higher Education and the Wars on Free Speech."
X-ALT-DESC;FMTTYPE=text/html:<p>Speaker Jon Zimmerman Lecture - &quot\;You Can&#39\;t Say That: American Higher Education and the Wars on Free Speech.&quot\;</p>
LOCATION:UC Multipurpose Room
UID:e.1691.24136
SEQUENCE:3
DTSTAMP:20260422T045952Z
URL:http://robtest.sampleorg.com/events/details/speaker-jon-zimmerman-lecture-04-23-2026-24136
END:VEVENT

END:VCALENDAR
