BEGIN:VCALENDAR
VERSION:2.0
PRODID:-//ChamberMaster//Event Calendar 2.0//EN
METHOD:PUBLISH
X-PUBLISHED-TTL:P3D
REFRESH-INTERVAL:P3D
CALSCALE:GREGORIAN
BEGIN:VEVENT
DTSTART:20260422T160000Z
DTEND:20260422T190000Z
X-MICROSOFT-CDO-ALLDAYEVENT:FALSE
SUMMARY:International Festival - 2026
DESCRIPTION:International Festival - 2026
X-ALT-DESC;FMTTYPE=text/html:<p>International Festival - 2026</p>
LOCATION:Hinds University Center - Catafount - Central Fountain\, UC Info Location on the Lawn 2\, UC Info Location on the Lawn 1\, UC Info Location on the Lawn 3\, UC Info Location on the Lawn 4\, UC Lawn Event Space
UID:e.1691.24135
SEQUENCE:3
DTSTAMP:20260422T045952Z
URL:http://robtest.sampleorg.com/events/details/international-festival-2026-24135
END:VEVENT

END:VCALENDAR
