BEGIN:VCALENDAR
VERSION:2.0
PRODID:-//ChamberMaster//Event Calendar 2.0//EN
METHOD:PUBLISH
X-PUBLISHED-TTL:P3D
REFRESH-INTERVAL:P3D
CALSCALE:GREGORIAN
BEGIN:VEVENT
DTSTART:20260424T162000Z
DTEND:20260424T171000Z
X-MICROSOFT-CDO-ALLDAYEVENT:FALSE
SUMMARY:Clarinet Ensemble Concert
DESCRIPTION:Clarinet Ensemble Concert
X-ALT-DESC;FMTTYPE=text/html:<p>Clarinet Ensemble Concert</p>
LOCATION:Coulter Building - Recital Hall
UID:e.1691.24127
SEQUENCE:3
DTSTAMP:20260420T172838Z
URL:http://robtest.sampleorg.com/events/details/clarinet-ensemble-concert-24127
END:VEVENT

END:VCALENDAR
